BEGIN:VCALENDAR
VERSION:2.0
PRODID:-//Babies First - ECPv6.15.20//NONSGML v1.0//EN
CALSCALE:GREGORIAN
METHOD:PUBLISH
X-WR-CALNAME:Babies First
X-ORIGINAL-URL:https://babiesfirst.ca
X-WR-CALDESC:Events for Babies First
REFRESH-INTERVAL;VALUE=DURATION:PT1H
X-Robots-Tag:noindex
X-PUBLISHED-TTL:PT1H
BEGIN:VTIMEZONE
TZID:UTC
BEGIN:STANDARD
TZOFFSETFROM:+0000
TZOFFSETTO:+0000
TZNAME:UTC
DTSTART:20250101T000000
END:STANDARD
END:VTIMEZONE
BEGIN:VEVENT
DTSTART;TZID=UTC:20260117T093000
DTEND;TZID=UTC:20260117T163000
DTSTAMP:20260424T020714
CREATED:20250921T230808Z
LAST-MODIFIED:20250921T230829Z
UID:1299-1768642200-1768667400@babiesfirst.ca
SUMMARY:Prenatal Childbirth and Baby Care Class January 2026
DESCRIPTION:Want an opportunity to learn the essentials about birth and how to care for your new baby in a fun and interactive way?\nYou will love our prenatal class. \nFee is $195 per couple and you will come away informed and with a bag of supplies to help you on the road to parenthood.\nTopics covered Include:\nStages of labour\nInterventions and options\nComfort measures-medicated and unmedicated\nC-section and vaginal birth\nHow to write a birth plan – and have an empowered birth\nPostpartum care for Mom\nCaring for your newborn\, including bathing diaper\, dressing\, soothing and car seats\nFeeding your newborn basics and your changing relationship as parents \nTaught by an engaging Registered Nurse who will have you laughing and you will leave feeling prepared to welcome your baby! \nRegistration via Eventbrite. \n1 ticket per couple\nYou will receive a email with details in the week before the class. If you do not receive this please check your spam folder and email info@babiesfirst.ca \n**This class requires registration in advance**\n*This class will only run with a minimum of 4 couples. In the event we do not have enough registrants we will cancel the course and offer a full refund.\nThe location of this class may move up to 10 km away based on number of registrations.
URL:https://babiesfirst.ca/event/prenatal-childbirth-and-baby-care-class-january-2026/
CATEGORIES:Childbirth,Parent class,Pregnant York Region,Prenatal Classes
ORGANIZER;CN="Babies First":MAILTO:info@babiestfirst.ca
END:VEVENT
END:VCALENDAR