BEGIN:VCALENDAR
VERSION:2.0
PRODID:-//Babies First - ECPv6.15.20//NONSGML v1.0//EN
CALSCALE:GREGORIAN
METHOD:PUBLISH
X-WR-CALNAME:Babies First
X-ORIGINAL-URL:https://babiesfirst.ca
X-WR-CALDESC:Events for Babies First
REFRESH-INTERVAL;VALUE=DURATION:PT1H
X-Robots-Tag:noindex
X-PUBLISHED-TTL:PT1H
BEGIN:VTIMEZONE
TZID:UTC
BEGIN:STANDARD
TZOFFSETFROM:+0000
TZOFFSETTO:+0000
TZNAME:UTC
DTSTART:20250101T000000
END:STANDARD
END:VTIMEZONE
BEGIN:VEVENT
DTSTART;TZID=UTC:20260103T100000
DTEND;TZID=UTC:20260103T133000
DTSTAMP:20260424T034156
CREATED:20251123T180102Z
LAST-MODIFIED:20251123T180102Z
UID:1306-1767434400-1767447000@babiesfirst.ca
SUMMARY:Introducing Solids to your Baby Online Workshop January
DESCRIPTION:Next up Solids!  What an exciting\, messy time for you and your baby.  Our poplar Intro to Solids class is back! \nThis 1.5 hour workshop goes over current recommendations for introducing solids\, tips and tricks\, how to know baby is ready for solids\, information on what to introduce when\, how much to feed\, baby led weaning\, safety tips\, information on allergens and how to respond and take action if baby is choking.  This workshop will be offered live online where you will be able to ask questions! \nThis workshop is taught by an expert Registered Nurse and Board Certified Lactation Consultant who is also a Certified First Aid and CPR instructor. \nWe recommend taking this course when your baby is between 3-7 months old so you are prepared for introduction of solids which is recommended around 6 months when baby is showing signs of readiness. \nTo Register visit: https://www.eventbrite.ca/e/introducing-solids-to-your-baby-workshop-january-tickets-1975234881703?aff=oddtdtcreator
URL:https://babiesfirst.ca/event/introducing-solids-to-your-baby-online-workshop-january/
LOCATION:Online Live\, Canada
CATEGORIES:Introducing Solids to Baby,online class,Parent class
ORGANIZER;CN="Babies First":MAILTO:info@babiestfirst.ca
END:VEVENT
END:VCALENDAR