BEGIN:VCALENDAR
VERSION:2.0
PRODID:-//Babies First - ECPv6.15.20//NONSGML v1.0//EN
CALSCALE:GREGORIAN
METHOD:PUBLISH
X-WR-CALNAME:Babies First
X-ORIGINAL-URL:https://babiesfirst.ca
X-WR-CALDESC:Events for Babies First
REFRESH-INTERVAL;VALUE=DURATION:PT1H
X-Robots-Tag:noindex
X-PUBLISHED-TTL:PT1H
BEGIN:VTIMEZONE
TZID:UTC
BEGIN:STANDARD
TZOFFSETFROM:+0000
TZOFFSETTO:+0000
TZNAME:UTC
DTSTART:20230101T000000
END:STANDARD
END:VTIMEZONE
BEGIN:VTIMEZONE
TZID:America/New_York
BEGIN:DAYLIGHT
TZOFFSETFROM:-0500
TZOFFSETTO:-0400
TZNAME:EDT
DTSTART:20230312T070000
END:DAYLIGHT
BEGIN:STANDARD
TZOFFSETFROM:-0400
TZOFFSETTO:-0500
TZNAME:EST
DTSTART:20231105T060000
END:STANDARD
BEGIN:DAYLIGHT
TZOFFSETFROM:-0500
TZOFFSETTO:-0400
TZNAME:EDT
DTSTART:20240310T070000
END:DAYLIGHT
BEGIN:STANDARD
TZOFFSETFROM:-0400
TZOFFSETTO:-0500
TZNAME:EST
DTSTART:20241103T060000
END:STANDARD
BEGIN:DAYLIGHT
TZOFFSETFROM:-0500
TZOFFSETTO:-0400
TZNAME:EDT
DTSTART:20250309T070000
END:DAYLIGHT
BEGIN:STANDARD
TZOFFSETFROM:-0400
TZOFFSETTO:-0500
TZNAME:EST
DTSTART:20251102T060000
END:STANDARD
END:VTIMEZONE
BEGIN:VEVENT
DTSTART;TZID=UTC:20250705T100000
DTEND;TZID=UTC:20250705T113000
DTSTAMP:20260423T230045
CREATED:20250503T015616Z
LAST-MODIFIED:20250503T015616Z
UID:1222-1751709600-1751715000@babiesfirst.ca
SUMMARY:Introducing Solids Workshop July
DESCRIPTION:Next up Solids!  What an exciting\, fun\, messy time for you and your baby.  Our poplar Intro to Solids class is back! \nThis 1.5 hour workshop goes over current recommendations for introducing solids\, tips and tricks\, how to know baby is ready for solids\, information on what to introduce when\, how much to feed\, baby led weaning\, safety tips\, information on allergens and how to respond and the action to take if baby is choking.  This workshop will be offered live online where you will be able to ask questions! \nThis workshop is taught by an experienced Registered Nurse and Board Certified Lactation Consultant who is also a Certified First Aid and CPR instructor. \nWe recommend taking this course when your baby is between 3-7 months old so you are prepared for introduction of solids which is recommended around 6 months when baby is showing signs of readiness!
URL:https://babiesfirst.ca/event/introducing-solids-workshop-july/
LOCATION:Online Live\, Canada
CATEGORIES:Introducing Solids to Baby,online class,Parent class
ORGANIZER;CN="Babies First":MAILTO:info@babiestfirst.ca
END:VEVENT
BEGIN:VEVENT
DTSTART;TZID=UTC:20250503T093000
DTEND;TZID=UTC:20250503T113000
DTSTAMP:20260423T230045
CREATED:20250309T153743Z
LAST-MODIFIED:20250503T020743Z
UID:1199-1746264600-1746271800@babiesfirst.ca
SUMMARY:Introducing Solids Workshop May
DESCRIPTION:  \n \nNext up Solids!  What an exciting\, fun\, messy time for you and your baby.  Our poplar Intro to Solids class is back! \nThis 1.5 hour workshop goes over current recommendations for introducing solids\, tips and tricks\, how to know baby is ready for solids\, information on what to introduce when\, how much to feed\, baby led weaning\, safety tips\, information on allergens and how to respond and the action to take if baby is choking.  This workshop will be offered live online where you will be able to ask questions! \nThis workshop is taught by an experienced Registered Nurse and Board Certified Lactation Consultant who is also a Certified First Aid and CPR instructor. \nWe recommend taking this course when your baby is between 3-7 months old so you are prepared for introduction of solids which is recommended around 6 months when baby is showing signs of readiness!
URL:https://babiesfirst.ca/event/introducing-solids-workshop-may/
LOCATION:Online Live\, Canada
CATEGORIES:Introducing Solids to Baby,online class,Parent class
END:VEVENT
BEGIN:VEVENT
DTSTART;TZID=UTC:20250407T183000
DTEND;TZID=UTC:20250407T183000
DTSTAMP:20260423T230045
CREATED:20250309T160133Z
LAST-MODIFIED:20250309T160237Z
UID:1203-1744050600-1744050600@babiesfirst.ca
SUMMARY:Prenatal Breastfeeding Class Online Live April
DESCRIPTION:Learn essential tips to help you prepare to breastfeed your baby! \nThis 2 hour class is taught by an experienced Registered Nurse IBCLC (International Board Certified Lactation Consultant).   It is perfect for all expectant parents who plan to breastfeed and is a must for those who have not attended any prenatal class. It is also a good review for those with experience.  Even those who take a prenatal class will benefit from the in-depth details this class covers.    \nA lactation consultant will discuss practical information on breastfeeding-latching and positioning\, how milk supply works and establishing milk supply\, how partners/families can help\, along with information on nutrition and medication while breastfeeding\, resolving breastfeeding issues\, bottles\, soothers and much more. \nAsk your questions and get answers!  \nPartners are welcome and encouraged to attend.  One ticket per couple! This event requires pre-registration. \nOnce you are registered by purchasing your ticket you will receive a calendar invite with the link for the class.  If you do not receive your link after registering please email info@babiesfirst.ca
URL:https://babiesfirst.ca/event/prenatal-breastfeeding-class-online-live-april/
LOCATION:Online Live\, Canada
CATEGORIES:online class,Parent class,Pregnant York Region,Prenatal Breastfeeding,Prenatal Classes
ORGANIZER;CN="Babies First":MAILTO:info@babiestfirst.ca
END:VEVENT
BEGIN:VEVENT
DTSTART;TZID=UTC:20250210T183000
DTEND;TZID=UTC:20250210T203000
DTSTAMP:20260423T230045
CREATED:20250123T171646Z
LAST-MODIFIED:20250123T171646Z
UID:1175-1739212200-1739219400@babiesfirst.ca
SUMMARY:Online Live Prenatal Breastfeeding Class February
DESCRIPTION:Learn essential tips to help you prepare to breastfeed your baby! \nThis 2 hour class is taught by an experienced Registered Nurse IBCLC (International Board Certified Lactation Consultant).   It is perfect for all expectant parents who plan to breastfeed and is a must for those who have not attended any prenatal class. It is also a good review for those with experience.  Even those who take a prenatal class will benefit from the in-depth details this class covers.    \nA lactation consultant will discuss practical information on breastfeeding-latching and positioning\, how milk supply works and establishing milk supply\, how partners/families can help\, along with information on nutrition and medication while breastfeeding\, resolving breastfeeding issues and much more. \nAsk your questions and get answers!  \nPartners are welcome and encouraged to attend.  One ticket per couple
URL:https://babiesfirst.ca/event/online-live-prenatal-breastfeeding-class-february/
LOCATION:Online Live\, Canada
CATEGORIES:online class,Parent class,Pregnant York Region,Prenatal Breastfeeding,Prenatal Classes
ORGANIZER;CN="Babies First":MAILTO:info@babiestfirst.ca
END:VEVENT
BEGIN:VEVENT
DTSTART;TZID=UTC:20250208T100000
DTEND;TZID=UTC:20250224T113000
DTSTAMP:20260423T230045
CREATED:20250123T173215Z
LAST-MODIFIED:20250123T173701Z
UID:1179-1739008800-1740396600@babiesfirst.ca
SUMMARY:Introducing Solids to your Baby Online Live Workshop February
DESCRIPTION:Next up Solids!  What an exciting\, messy time for you and your baby.  Our poplar Intro to Solids class is back! \nThis 1.5 hour workshop goes over current recommendations for introducing solids\, tips and tricks\, how to know baby is ready for solids\, information on what to introduce when\, how much to feed\, baby led weaning\, safety tips\, information on allergens and how to respond and the action to take if baby is choking.  This workshop will be offered live online where you will be able to ask questions! \nThis workshop is taught by an experr Registered Nurse and Board Certified Lactation Consultant who is also a Certified First Aid and CPR instructor. \nWe recommend taking this course when your baby is between 3-7 months old so you are prepared for introduction of solids which is recommended around 6 months when baby is showing signs of readiness.
URL:https://babiesfirst.ca/event/introducing-solids-to-your-baby-online-live-workshop-february/
LOCATION:Online Live\, Canada
CATEGORIES:Introducing Solids to Baby,online class,Parent class
ORGANIZER;CN="Babies First":MAILTO:info@babiestfirst.ca
END:VEVENT
BEGIN:VEVENT
DTSTART;TZID=UTC:20250125T090000
DTEND;TZID=UTC:20250125T170000
DTSTAMP:20260423T230045
CREATED:20241018T021602Z
LAST-MODIFIED:20250108T173045Z
UID:1131-1737795600-1737824400@babiesfirst.ca
SUMMARY:Childbirth and Baby Care Prenatal Class January 2025
DESCRIPTION:Want an opportunity to learn the essentials about birth and how to care for your new baby in a fun and interactive way?\nYou will love our prenatal class. \nFee is $190 per couple and you will come away informed\, excited and with your questions answered.\nTopics covered Include:\n|Stages of labour | Interventions and options | Comfort measures-medicated and unmedicated | C-section and vaginal birth | How to write a birth plan – and have an empowered birth | Postpartum care for Mom | Caring for your newborn\, including bathing diaper\, dressing\, soothing and car seats| Feeding your newborn basics and your changing relationship as parents \nTaught by an engaging Registered Nurse who will leave you feeling prepared to welcome your baby! \n1 ticket per couple \n**this class requires registration in advance**  Once registered you will receive further details from info@babiesfirst.ca if you do not receive an email within a week of registering please email info@babiesfirst.ca Thank you \nYou can register for just Childbirth or just Baby care by emailing info@babiesfirst.ca
URL:https://babiesfirst.ca/event/childbirth-and-baby-care-prenatal-class-january-2025/
LOCATION:Vince’s Sharon Community Room\, 19103A Leslie St\, Sharon\, Ontario\, L0G1V0\, Canada
CATEGORIES:Childbirth,Parent class,Pregnant York Region,Prenatal Classes
ORGANIZER;CN="Babies First":MAILTO:info@babiestfirst.ca
END:VEVENT
BEGIN:VEVENT
DTSTART;VALUE=DATE:20241124
DTEND;VALUE=DATE:20250201
DTSTAMP:20260423T230045
CREATED:20241124T222809Z
LAST-MODIFIED:20241124T222810Z
UID:1157-1732406400-1738367999@babiesfirst.ca
SUMMARY:First Aid for Dogs and Cats
DESCRIPTION:Do you want to be the hero your pets deserve? As a cat or dog owner\, you know how important it is to keep your furry friends safe and healthy. But what if an emergency happens? Would you know what to do? \nThe First Aid for Dogs and Cats online course teaches you the essential skills to care for your pets in emergencies. From handling choking incidents to recognizing the signs of a seizure\, this course gives you the confidence to act quickly and effectively\, ensuring your pets are always in good hands. The Red Cross pet first aid course you were looking for! \nAll online and can be completed in the comfort of your home.  You will receive a certificate from Canadian Red Cross upon successful completion.  Great for pet parents and those caring for animals. \nOnce you purchase your tickets you will receive an email to log in to the Red Cross platform using the email you provided.  If you do not receive an email please reach out to us at info@babiesfirst.ca \nYou can start this course any time!
URL:https://babiesfirst.ca/event/first-aid-for-dogs-and-cats/
LOCATION:Online Live\, Canada
CATEGORIES:First Aid for Dogs and Cats,online class,Parent class
ORGANIZER;CN="Babies First":MAILTO:info@babiestfirst.ca
END:VEVENT
BEGIN:VEVENT
DTSTART;TZID=UTC:20241123T100000
DTEND;TZID=UTC:20241123T120000
DTSTAMP:20260423T230045
CREATED:20241018T014618Z
LAST-MODIFIED:20241118T024717Z
UID:1127-1732356000-1732363200@babiesfirst.ca
SUMMARY:Baby/Child CPR and First Aid Workshop November
DESCRIPTION:NOVEMBER is CPR Month\, take our Workshop and be prepared! \nLearning about common first aid emergencies and how to prevent and treat them in your children is an essential skill for parents. In a Babies First CPR and Safety Workshop you will learn CPR\, Choking treatment\, and how to handle emergencies like: a bleeding cut\, how to know if a child needs stitches\, broken bones\, breathing emergencies\, handling fevers and much more. \nBabies First CPR workshops are approximately 2 hours long and include practice with life like manikins\, videos\, hands on practice and an informative handout to take home with you. \nThe CPR workshop is taught by a certified CPR instructor/Registered Nurse with 20 years of experience. \nGain the confidence to handle any emergency situation with your baby or child\, Register today! \n1 ticker per person or 1 couple ticket for 2 people.  Pre-registration required. \nThis is a workshop\, not a certification class. \n**If registration is low\, the class will be cancelled with a full refund.
URL:https://babiesfirst.ca/event/baby-child-cpr-and-first-aid-workshop-november/
LOCATION:Vince’s Sharon Community Room\, 19103A Leslie St\, Sharon\, Ontario\, L0G1V0\, Canada
CATEGORIES:Parent class,Pregnant York Region,Prenatal Classes
ORGANIZER;CN="Babies First":MAILTO:info@babiestfirst.ca
END:VEVENT
BEGIN:VEVENT
DTSTART;TZID=UTC:20241120T180000
DTEND;TZID=UTC:20241120T201500
DTSTAMP:20260423T230045
CREATED:20241018T023013Z
LAST-MODIFIED:20241018T023013Z
UID:1134-1732125600-1732133700@babiesfirst.ca
SUMMARY:Live Prenatal Breastfeeding Class November
DESCRIPTION:Learn the essentials to help you prepare to breastfeed your baby with confidence! \nThis 2 hour class is taught by an experienced Registered Nurse IBCLC (International Board Certified Lactation Consultant).   It is perfect for all expectant parents who plan to breastfeed and is a must for those who have not attended any prenatal class. It is also a good review for those with experience.  Even those who take a prenatal class will benefit from the in-depth details this class covers.    \nA lactation consultant will discuss practical information on breastfeeding-latching and positioning\, how milk supply works and establishing milk supply\, how partners/families can help\, along with information on nutrition and medication while breastfeeding\, resolving breastfeeding issues and much more. \nAsk your questions and get answers!  \nPartners are welcome and encouraged to attend.  One ticket per couple
URL:https://babiesfirst.ca/event/live-prenatal-breastfeeding-class-november/
LOCATION:Online Live\, Canada
CATEGORIES:Parent class,Pregnant York Region,Prenatal Breastfeeding,Prenatal Classes
ORGANIZER;CN="Babies First":MAILTO:info@babiestfirst.ca
END:VEVENT
BEGIN:VEVENT
DTSTART;TZID=UTC:20240914T090000
DTEND;TZID=UTC:20240914T170000
DTSTAMP:20260423T230045
CREATED:20240716T023246Z
LAST-MODIFIED:20240716T023246Z
UID:1096-1726304400-1726333200@babiesfirst.ca
SUMMARY:Prenatal Childbirth and Baby Care Class September
DESCRIPTION:Want an opportunity to learn the essentials about birth and how to care for your new baby in a fun and interactive way?\nYou will love our prenatal class. \nFee is $190 per couple and you will come away informed and with your questions answered.\nTopics covered Include:\n|Stages of labour | Interventions and options | Comfort measures-medicated and unmedicated | C-section and vaginal birth | How to write a birth plan – and have an empowered birth | Postpartum care for Mom | Caring for your newborn\, including bathing diaper\, dressing\, soothing and car seats| Feeding your newborn basics and your changing relationship as parents \nTaught by an engaging Registered Nurse who will leave you feeling prepared to welcome your baby! \n1 ticket per couple \n**this class requires registration in advance**  Once registered you will receive further details from info@babiesfirst.ca if you do not receive an email within a week of registering please email info@babiesfirst.ca Thank you \nYou can register for just Childbirth or just Baby care by emailing info@babiesfirst.ca
URL:https://babiesfirst.ca/event/prenatal-childbirth-and-baby-care-class-september/
LOCATION:Vince’s Sharon Community Room\, 19103A Leslie St\, Sharon\, Ontario\, L0G1V0\, Canada
CATEGORIES:Childbirth,Parent class,Pregnant York Region,Prenatal Classes
ORGANIZER;CN="Babies First":MAILTO:info@babiestfirst.ca
END:VEVENT
BEGIN:VEVENT
DTSTART;TZID=UTC:20240817T100000
DTEND;TZID=UTC:20240817T120000
DTSTAMP:20260423T230045
CREATED:20240716T011439Z
LAST-MODIFIED:20240814T185504Z
UID:1090-1723888800-1723896000@babiesfirst.ca
SUMMARY:Baby Child CPR and First Aid Workshop August
DESCRIPTION:Learning about common first aid emergencies and how to prevent and treat them in your children is an essential skill for parents. In a Babies First CPR and Safety Workshop you will learn CPR\, Choking treatment\, and emergencies like: a bleeding cut\, how to know if a child needs stitches\, broken bones\, breathing emergencies\, handling fevers and much more. \nBabies First CPR workshops are approximately 2 hours long and include practice with life like manikins\, videos\, hands on practice and an informative handout to take home with you. \nThe CPR workshop is taught by a certified CPR instructor/Registered Nurse with 20 years of experience. \nGain the confidence to handle any emergency situation with your baby or child\, Register today! \n1 ticker per person or 1 couple ticket for 2 people.  Pre-registration required. \nThis is a workshop\, not a certification class.
URL:https://babiesfirst.ca/event/baby-child-cpr-and-first-aid-workshop-august/
LOCATION:Vince’s Sharon Community Room\, 19103A Leslie St\, Sharon\, Ontario\, L0G1V0\, Canada
CATEGORIES:Introducing Solids to Baby,Parent class,Pregnant York Region,Prenatal Classes
ORGANIZER;CN="Babies First":MAILTO:info@babiestfirst.ca
END:VEVENT
BEGIN:VEVENT
DTSTART;TZID=America/New_York:20240718T093000
DTEND;TZID=America/New_York:20240718T113000
DTSTAMP:20260423T230045
CREATED:20240606T032823Z
LAST-MODIFIED:20240619T233642Z
UID:1047-1721295000-1721302200@babiesfirst.ca
SUMMARY:Introducing Solids to your Baby Workshop July
DESCRIPTION:  \n \nNext up Solids!  What an exciting\, messy time for you and your baby.  Our poplar Intro to Solids class is back! \nThis 1.5 hour workshop goes over current recommendations for introducing solids\, tips and tricks\, how to know baby is ready for solids\, information on what to introduce when\, how much to feed\, baby led weaning\, safety tips\, information on allergens and how to respond and the action to take if baby is choking.  This workshop will be offered live online where you will be able to ask questions! \nThis workshop is taught by an experienced Registered Nurse and Board Certified Lactation Consultant who is also a Certified First Aid and CPR instructor. \nWe recommend taking this course when your baby is between 3-7 months old so you are prepared for introduction of solids which is recommended around 6 months when baby is showing signs of readiness!
URL:https://babiesfirst.ca/event/introducing-solids-to-your-baby-workshop-july/
LOCATION:Online Live\, Canada
CATEGORIES:Introducing Solids to Baby,Parent class,Pregnant York Region,Prenatal Classes
ORGANIZER;CN="Babies First":MAILTO:info@babiestfirst.ca
END:VEVENT
END:VCALENDAR