BEGIN:VCALENDAR
VERSION:2.0
PRODID:-//Babies First - ECPv6.15.20//NONSGML v1.0//EN
CALSCALE:GREGORIAN
METHOD:PUBLISH
X-WR-CALNAME:Babies First
X-ORIGINAL-URL:https://babiesfirst.ca
X-WR-CALDESC:Events for Babies First
REFRESH-INTERVAL;VALUE=DURATION:PT1H
X-Robots-Tag:noindex
X-PUBLISHED-TTL:PT1H
BEGIN:VTIMEZONE
TZID:UTC
BEGIN:STANDARD
TZOFFSETFROM:+0000
TZOFFSETTO:+0000
TZNAME:UTC
DTSTART:20240101T000000
END:STANDARD
END:VTIMEZONE
BEGIN:VEVENT
DTSTART;TZID=UTC:20250125T090000
DTEND;TZID=UTC:20250125T170000
DTSTAMP:20260424T203005
CREATED:20241018T021602Z
LAST-MODIFIED:20250108T173045Z
UID:1131-1737795600-1737824400@babiesfirst.ca
SUMMARY:Childbirth and Baby Care Prenatal Class January 2025
DESCRIPTION:Want an opportunity to learn the essentials about birth and how to care for your new baby in a fun and interactive way?\nYou will love our prenatal class. \nFee is $190 per couple and you will come away informed\, excited and with your questions answered.\nTopics covered Include:\n|Stages of labour | Interventions and options | Comfort measures-medicated and unmedicated | C-section and vaginal birth | How to write a birth plan – and have an empowered birth | Postpartum care for Mom | Caring for your newborn\, including bathing diaper\, dressing\, soothing and car seats| Feeding your newborn basics and your changing relationship as parents \nTaught by an engaging Registered Nurse who will leave you feeling prepared to welcome your baby! \n1 ticket per couple \n**this class requires registration in advance**  Once registered you will receive further details from info@babiesfirst.ca if you do not receive an email within a week of registering please email info@babiesfirst.ca Thank you \nYou can register for just Childbirth or just Baby care by emailing info@babiesfirst.ca
URL:https://babiesfirst.ca/event/childbirth-and-baby-care-prenatal-class-january-2025/
LOCATION:Vince’s Sharon Community Room\, 19103A Leslie St\, Sharon\, Ontario\, L0G1V0\, Canada
CATEGORIES:Childbirth,Parent class,Pregnant York Region,Prenatal Classes
ORGANIZER;CN="Babies First":MAILTO:info@babiestfirst.ca
END:VEVENT
END:VCALENDAR