BEGIN:VCALENDAR
VERSION:2.0
PRODID:-//Babies First - ECPv6.15.20//NONSGML v1.0//EN
CALSCALE:GREGORIAN
METHOD:PUBLISH
X-ORIGINAL-URL:https://babiesfirst.ca
X-WR-CALDESC:Events for Babies First
REFRESH-INTERVAL;VALUE=DURATION:PT1H
X-Robots-Tag:noindex
X-PUBLISHED-TTL:PT1H
BEGIN:VTIMEZONE
TZID:America/New_York
BEGIN:DAYLIGHT
TZOFFSETFROM:-0500
TZOFFSETTO:-0400
TZNAME:EDT
DTSTART:20230312T070000
END:DAYLIGHT
BEGIN:STANDARD
TZOFFSETFROM:-0400
TZOFFSETTO:-0500
TZNAME:EST
DTSTART:20231105T060000
END:STANDARD
BEGIN:DAYLIGHT
TZOFFSETFROM:-0500
TZOFFSETTO:-0400
TZNAME:EDT
DTSTART:20240310T070000
END:DAYLIGHT
BEGIN:STANDARD
TZOFFSETFROM:-0400
TZOFFSETTO:-0500
TZNAME:EST
DTSTART:20241103T060000
END:STANDARD
BEGIN:DAYLIGHT
TZOFFSETFROM:-0500
TZOFFSETTO:-0400
TZNAME:EDT
DTSTART:20250309T070000
END:DAYLIGHT
BEGIN:STANDARD
TZOFFSETFROM:-0400
TZOFFSETTO:-0500
TZNAME:EST
DTSTART:20251102T060000
END:STANDARD
END:VTIMEZONE
BEGIN:VEVENT
DTSTART;TZID=America/New_York:20240715T180000
DTEND;TZID=America/New_York:20240715T200000
DTSTAMP:20260425T040206
CREATED:20240606T031841Z
LAST-MODIFIED:20240606T033712Z
UID:1044-1721066400-1721073600@babiesfirst.ca
SUMMARY:Prenatal Breastfeeding Class Live Online July 15
DESCRIPTION:Learn essential tips to help you prepare to breastfeed your baby! \nThis 2 hour class is taught by an experienced Registered Nurse IBCLC (International Board Certified Lactation Consultant).   It is perfect for all expectant parents who plan to breastfeed and is a must for those who have not attended any prenatal class. It is also a good review for those with experience.  Even those who take a prenatal class will benefit from the in-depth details this class covers.    \nA lactation consultant will discuss practical information on breastfeeding-latching and positioning\, how milk supply works and establishing milk supply\, how partners/families can help\, along with information on nutrition and medication while breastfeeding\, resolving breastfeeding issues\, bottles\, soothers and much more. \nAsk your questions and get answers!  \nPartners are welcome and encouraged to attend.  One ticket per couple!
URL:https://babiesfirst.ca/event/prenatalbreastfeedingclassjuly/
LOCATION:Online Live\, Canada
CATEGORIES:Pregnant York Region,Prenatal Breastfeeding,Prenatal Classes
ORGANIZER;CN="Babies First":MAILTO:info@babiestfirst.ca
END:VEVENT
END:VCALENDAR