BEGIN:VCALENDAR
VERSION:2.0
PRODID:-//Babies First - ECPv6.15.20//NONSGML v1.0//EN
CALSCALE:GREGORIAN
METHOD:PUBLISH
X-ORIGINAL-URL:https://babiesfirst.ca
X-WR-CALDESC:Events for Babies First
REFRESH-INTERVAL;VALUE=DURATION:PT1H
X-Robots-Tag:noindex
X-PUBLISHED-TTL:PT1H
BEGIN:VTIMEZONE
TZID:UTC
BEGIN:STANDARD
TZOFFSETFROM:+0000
TZOFFSETTO:+0000
TZNAME:UTC
DTSTART:20240101T000000
END:STANDARD
END:VTIMEZONE
BEGIN:VEVENT
DTSTART;TZID=UTC:20251006T181500
DTEND;TZID=UTC:20251006T203000
DTSTAMP:20260424T064501
CREATED:20250921T224431Z
LAST-MODIFIED:20250921T224431Z
UID:1295-1759774500-1759782600@babiesfirst.ca
SUMMARY:Online live Prenatal Breastfeeding Class October
DESCRIPTION:Learn all about feeding your baby! Including preparing to breastfeeding\, how we make breastmilk\, how to know your baby is getting enough\, trouble shooting issues\, different ways to feed the baby\, and much more!\nThe fee for this class is $15\nTo register reserve your ticket on eventbrite or email info@babiesfirst.ca \n 
URL:https://babiesfirst.ca/event/online-live-prenatal-breastfeeding-class-october/
LOCATION:Online Live\, Canada
CATEGORIES:online class,Parent class,Pregnant York Region,Prenatal Breastfeeding
ORGANIZER;CN="Babies First":MAILTO:info@babiestfirst.ca
END:VEVENT
END:VCALENDAR