BEGIN:VCALENDAR
VERSION:2.0
PRODID:-//Babies First - ECPv6.15.20//NONSGML v1.0//EN
CALSCALE:GREGORIAN
METHOD:PUBLISH
X-WR-CALNAME:Babies First
X-ORIGINAL-URL:https://babiesfirst.ca
X-WR-CALDESC:Events for Babies First
REFRESH-INTERVAL;VALUE=DURATION:PT1H
X-Robots-Tag:noindex
X-PUBLISHED-TTL:PT1H
BEGIN:VTIMEZONE
TZID:UTC
BEGIN:STANDARD
TZOFFSETFROM:+0000
TZOFFSETTO:+0000
TZNAME:UTC
DTSTART:20250101T000000
END:STANDARD
END:VTIMEZONE
BEGIN:VEVENT
DTSTART;TZID=UTC:20260523T093000
DTEND;TZID=UTC:20260523T163000
DTSTAMP:20260423T225958
CREATED:20260122T002707Z
LAST-MODIFIED:20260415T223601Z
UID:1310-1779528600-1779553800@babiesfirst.ca
SUMMARY:Prenatal Childbirth and Baby Care Class Newmarket May 2026
DESCRIPTION:Want an opportunity to learn the essentials about birth and how to care for your new baby in a fun and interactive way?  Want to meet other parents-to-be? \nYou will love our prenatal class. \nFee is $190.00 per couple and you will come away informed and with a bag of supplies to help you on the road to parenthood. \nTopics covered Include:\nStages of labour\nInterventions and options\nComfort measures-medicated and unmedicated\nC-section and vaginal birth\nHow to write a birth plan – and have an empowered birth\nPostpartum care for Mom\nCaring for your newborn\, including bathing diaper\, dressing\, soothing and car seats\nFeeding your newborn basics and your changing relationship as parents \nTaught by an engaging Registered Nurse who will have you laughing and you will leave feeling prepared to welcome your baby! \nRegistration via Eventbrite. \n1 ticket per couple\nYou will receive a email with details in the week before the class. If you do not receive this please check your spam folder and email info@babiesfirst.ca \n**This class requires registration in advance**
URL:https://babiesfirst.ca/event/prenatal-childbirth-and-baby-care-class-newmarket-may-2026/
CATEGORIES:Childbirth,Parent class,Pregnant York Region,Prenatal Breastfeeding,Prenatal Classes
ORGANIZER;CN="Babies First":MAILTO:info@babiestfirst.ca
END:VEVENT
END:VCALENDAR