BEGIN:VCALENDAR
VERSION:2.0
PRODID:-//Babies First - ECPv6.15.20//NONSGML v1.0//EN
CALSCALE:GREGORIAN
METHOD:PUBLISH
X-WR-CALNAME:Babies First
X-ORIGINAL-URL:https://babiesfirst.ca
X-WR-CALDESC:Events for Babies First
REFRESH-INTERVAL;VALUE=DURATION:PT1H
X-Robots-Tag:noindex
X-PUBLISHED-TTL:PT1H
BEGIN:VTIMEZONE
TZID:UTC
BEGIN:STANDARD
TZOFFSETFROM:+0000
TZOFFSETTO:+0000
TZNAME:UTC
DTSTART:20180101T000000
END:STANDARD
END:VTIMEZONE
BEGIN:VTIMEZONE
TZID:Asia/Dubai
BEGIN:STANDARD
TZOFFSETFROM:+0400
TZOFFSETTO:+0400
TZNAME:+04
DTSTART:20190101T000000
END:STANDARD
END:VTIMEZONE
BEGIN:VTIMEZONE
TZID:America/Halifax
BEGIN:DAYLIGHT
TZOFFSETFROM:-0400
TZOFFSETTO:-0300
TZNAME:ADT
DTSTART:20180311T060000
END:DAYLIGHT
BEGIN:STANDARD
TZOFFSETFROM:-0300
TZOFFSETTO:-0400
TZNAME:AST
DTSTART:20181104T050000
END:STANDARD
BEGIN:DAYLIGHT
TZOFFSETFROM:-0400
TZOFFSETTO:-0300
TZNAME:ADT
DTSTART:20190310T060000
END:DAYLIGHT
BEGIN:STANDARD
TZOFFSETFROM:-0300
TZOFFSETTO:-0400
TZNAME:AST
DTSTART:20191103T050000
END:STANDARD
BEGIN:DAYLIGHT
TZOFFSETFROM:-0400
TZOFFSETTO:-0300
TZNAME:ADT
DTSTART:20200308T060000
END:DAYLIGHT
BEGIN:STANDARD
TZOFFSETFROM:-0300
TZOFFSETTO:-0400
TZNAME:AST
DTSTART:20201101T050000
END:STANDARD
BEGIN:DAYLIGHT
TZOFFSETFROM:-0400
TZOFFSETTO:-0300
TZNAME:ADT
DTSTART:20210314T060000
END:DAYLIGHT
BEGIN:STANDARD
TZOFFSETFROM:-0300
TZOFFSETTO:-0400
TZNAME:AST
DTSTART:20211107T050000
END:STANDARD
END:VTIMEZONE
BEGIN:VEVENT
DTSTART;TZID=UTC:20230527T140000
DTEND;TZID=UTC:20230527T160000
DTSTAMP:20260423T230019
CREATED:20230502T231706Z
LAST-MODIFIED:20230502T231915Z
UID:885-1685196000-1685203200@babiesfirst.ca
SUMMARY:Baby Child CPR and First Aid Workshop for parents/grandparents May 27
DESCRIPTION:This workshop can help you feel confident about knowing how to treat and prevent that first bump when baby begins exploring\, how to react the first time they gag on food and how to keep them safe as they continue to explore and grow. \nThe workshop is approximately 2 hours long\, and includes up-to-date information on baby/child CPR\, choking\, and common first aid emergencies. The workshop is child-friendly and includes hands-on practice on responsive mannequins. \nOne ticket per participant. If booking as a couple and you will share a manikin please use coupon code “COUPLE” at discount to save $5.00 per ticket.  Reserve your seat via Eventbrite: https://www.eventbrite.ca/e/629599307477 \nThis is a workshop not a certification\, taught by a certified instructor and Registered Nurse.
URL:https://babiesfirst.ca/event/baby-child-cpr-and-first-aid-workshop-for-parents-grandparents-may-27/
LOCATION:Vince’s Market Sharon Ontario\, 19103A Leslie St\,\, Sharon\, Ontario\, L0G 1V0\, Canada
END:VEVENT
BEGIN:VEVENT
DTSTART;TZID=UTC:20221106T091500
DTEND;TZID=UTC:20221106T170000
DTSTAMP:20260423T230019
CREATED:20220902T030559Z
LAST-MODIFIED:20220902T030739Z
UID:865-1667726100-1667754000@babiesfirst.ca
SUMMARY:In person Group Prenatal Childbirth and Baby Care Class November
DESCRIPTION:sWant an opportunity to learn the essentials about birth and how to care for your new baby in a fun and interactive way?  You will love our prenatal class! \nFee is $185 per couple and you will come away informed and with a bag of supplies to help you on the road to parenthood. \nTopics covered Include: \n\nStages of labour\nInterventions and options\nComfort measures-medicated and unmedicated\nC-section and vaginal birth\nHow to write a birth plan – and have an empowered birth\nPostpartum care for Mom\nCaring for your newborn\, including bathing diaper\, dressing\, soothing and car seats\nFeeding your newborn basics\nCaring for your changing relationship as parents\nParenting hacks\n\nTaught by two engaging Registered Nurses who will have you laughing and you will leave feeling prepared to welcome your baby! \n1 ticket per couple \nWe kindly ask all parents-to-be to wear a mask during the course and screen themselves for symptoms of COVID prior to attending. \nIf unwell please email info@babiesfirst.ca prior to the start of the class and we will move your registration to the next class or offer a refund minus a $30 administration fee. You will be provided with access to the prerecorded version of the course. \nSnacks and drinks provided during the course \n**This class requires registration in advance-visit https://www.eventbrite.ca/e/group-prenatal-childbirth-and-baby-care-class-in-person-tickets-407743069497 ** \n*This class will only run with a minimum of 6 couples. In the event we do not have enough registrants we will cancel the course and offer a full refund.
URL:https://babiesfirst.ca/event/novprenatal/
LOCATION:Temperance Hall\, 18974 Leslie St\, Sharon\, Ontairo\, L0G 1V0
CATEGORIES:Childbirth,Pregnant York Region,Prenatal Classes
ORGANIZER;CN="Babies First":MAILTO:info@babiestfirst.ca
END:VEVENT
BEGIN:VEVENT
DTSTART;TZID=Asia/Dubai:20200530T123000
DTEND;TZID=Asia/Dubai:20200530T143000
DTSTAMP:20260423T230019
CREATED:20200527T185427Z
LAST-MODIFIED:20200527T185427Z
UID:751-1590841800-1590849000@babiesfirst.ca
SUMMARY:Online Family Baby/Child CPR and First Aid
DESCRIPTION:Online and interactive Baby/Child CPR and First Aid Workshop for families.  Cost is $20 per person/couple.  Requires registration in advance please email info@babiesfirst.ca or message on social media to save your spot
URL:https://babiesfirst.ca/event/online-family-baby-child-cpr-and-first-aid/
LOCATION:Ontario
ORGANIZER;CN="Babies First":MAILTO:info@babiestfirst.ca
END:VEVENT
BEGIN:VEVENT
DTSTART;TZID=Asia/Dubai:20200530T100000
DTEND;TZID=Asia/Dubai:20200530T113000
DTSTAMP:20260423T230019
CREATED:20200527T184612Z
LAST-MODIFIED:20200527T184612Z
UID:749-1590832800-1590838200@babiesfirst.ca
SUMMARY:Online Baby CPR and First Aid for expectant/new parents
DESCRIPTION:For expecting families or those with young babies. Join us for a 1.5 hour workshop to learn the essential skills of CPR and Choking Rescues as well as some common First Aid Emergencies. This class is offered online and is interactive. $20.00 per couple/registrant. Email info@babiesfirst.ca or message to sign up and reserve your spot.
URL:https://babiesfirst.ca/event/online-baby-cpr-and-first-aid-for-expectant-new-parents/
LOCATION:Ontario
CATEGORIES:Childbirth,Pregnant York Region,Prenatal Classes
ORGANIZER;CN="Babies First":MAILTO:info@babiestfirst.ca
END:VEVENT
BEGIN:VEVENT
DTSTART;TZID=America/Halifax:20200503T090000
DTEND;TZID=America/Halifax:20200503T170000
DTSTAMP:20260423T230019
CREATED:20191105T004258Z
LAST-MODIFIED:20191105T004345Z
UID:649-1588496400-1588525200@babiesfirst.ca
SUMMARY:Prenatal ChildBirth and Baby Care Class May
DESCRIPTION:Want an opportunity to learn the essentials about birth and how to care for your new baby in a fun and interactive way? You will love our prenatal class. Fee is $150 per couple and you will come away informed and with a bag of supplies to help you on the road to parenthood. Topics covered Include:Late pregnancy: caring for your pregnancy\, warning signs | Stages of labour | Interventions and options | Comfort measures | C-section and vaginal birth | How to write a birth plan – and have an empowered birth | Post-partum care for Mom | Caring for your newborn | Feeding your newborn basics and your changing relationship as parentsTaught by two engaging Registered Nurses who will have you laughing and leave feeling prepred to welcome your baby!1 ticket per couple**this class requires registration in advance**
URL:https://babiesfirst.ca/event/prenatal-childbirth-and-baby-care-class-may/
LOCATION:Dish Events\, 212 Earl Stewart Drive\, Aurora\, ON\, L4G 6V5\, Canada
CATEGORIES:Childbirth,Pregnant York Region,Prenatal Classes
ORGANIZER;CN="Babies First":MAILTO:info@babiestfirst.ca
END:VEVENT
BEGIN:VEVENT
DTSTART;TZID=UTC:20200418T130000
DTEND;TZID=UTC:20200418T140000
DTSTAMP:20260423T230019
CREATED:20200406T025028Z
LAST-MODIFIED:20200406T025028Z
UID:725-1587214800-1587218400@babiesfirst.ca
SUMMARY:New Parent Baby CPR Online Class
DESCRIPTION:Learn the essentials skills of CPR\, Choking rescue\, and common emergencies.  This is a 1 hour online class adapted from our popular in person workshop.  You will have the opportunity to ask questions and interact with the Instructor.   To Register email info@babiesfirst.ca 
URL:https://babiesfirst.ca/event/new-parent-baby-cpr-online-class/
LOCATION:Ontario
CATEGORIES:Pregnant York Region,Prenatal Classes
ORGANIZER;CN="Babies First":MAILTO:info@babiestfirst.ca
END:VEVENT
BEGIN:VEVENT
DTSTART;TZID=UTC:20200308T131500
DTEND;TZID=UTC:20200308T170000
DTSTAMP:20260423T230019
CREATED:20200302T220036Z
LAST-MODIFIED:20200302T220036Z
UID:714-1583673300-1583686800@babiesfirst.ca
SUMMARY:Prenatal Baby Care Class March 8th
DESCRIPTION:  \nWant an opportunity to learn the essentials about caring for your new baby in a fun and interactive way? You will love our Prenatal Baby Care Class. Fee is $75 per couple and you will come away informed and with a bag of supplies to help you on the road to parenthood. Topics covered Include: Caring for your newborn Bathing and Skin Care Diapering Dressing Soothing Brain Development Car seats Feeding your newborn basics Your changing relationship as parents and much more! Taught by two engaging Registered Nurses who will have you laughing and you will leave feeling prepared to welcome your baby! 1 ticket per couple\, You can purchase on here or contact us for further payment options. This class is held in Aurora **this class requires registration in advance** Sign up for our Full Day Prenatal Child Birth and Baby Care Class to leave you fully prepared.
URL:https://babiesfirst.ca/event/prenatal-baby-care-class-march-8th/
LOCATION:Dish Events\, 212 Earl Stewart Drive\, Aurora\, ON\, L4G 6V5\, Canada
CATEGORIES:Pregnant York Region,Prenatal Classes
ORGANIZER;CN="Babies First":MAILTO:info@babiestfirst.ca
END:VEVENT
BEGIN:VEVENT
DTSTART;TZID=America/Halifax:20200308T090000
DTEND;TZID=America/Halifax:20200308T170000
DTSTAMP:20260423T230019
CREATED:20191105T003900Z
LAST-MODIFIED:20200106T173643Z
UID:647-1583658000-1583686800@babiesfirst.ca
SUMMARY:Prenatal Childbirth and Baby Care Class March
DESCRIPTION:Want an opportunity to learn the essentials about birth and how to care for your new baby in a fun and interactive way?You will love our prenatal class.Fee is $150 per couple and you will come away informed and with a bag of supplies to help you on the road to parenthood.Topics covered Include:|Stages of labour | Interventions and options | Comfort measures-medicated and unmedicated | C-section and vaginal birth | How to write a birth plan – and have an empowered birth | Postpartum care for Mom | Caring for your newborn\, including bathing diaper\, dressing\, soothing and car seats| Feeding your newborn basics and your changing relationship as parentsTaught by two engaging Registered Nurses who will have you laughing and you will leave feeling prepared to welcome your baby!1 ticket per couple**this class requires registration in advance** \nYou are welcome to just register for the labour and birth portion or just the baby care portion by emailing info@babiesfirst.ca
URL:https://babiesfirst.ca/event/prenatal-childbirth-baby-care-class-march/
LOCATION:Dish Events\, 212 Earl Stewart Drive\, Aurora\, ON\, L4G 6V5\, Canada
CATEGORIES:Childbirth,Pregnant York Region,Prenatal Classes
ORGANIZER;CN="Babies First":MAILTO:info@babiestfirst.ca
END:VEVENT
BEGIN:VEVENT
DTSTART;TZID=UTC:20200223T144500
DTEND;TZID=UTC:20200223T171500
DTSTAMP:20260423T230019
CREATED:20200106T022746Z
LAST-MODIFIED:20200106T022746Z
UID:690-1582469100-1582478100@babiesfirst.ca
SUMMARY:Prenatal Breastfeeding Class February
DESCRIPTION:Learn essential tips to help you prepare to breastfeed your baby! \nThis 2.5 hour class is taught by an experienced Registered Nurse IBCLC (International Board Certified Lactation Consultant).   It is perfect for all expectant parents who plan to breastfeed and is a must for those who have not attended any prenatal class. It is also a good review for those with experience.  Even those who take a prenatal class will benefit from the in-depth details this class covers.    \nA lactation consultant will discuss practical information on breastfeeding-latching and positioning\, how milk supply works and establishing milk supply\, how partners/families can help\, along with information on nutrition and medication while breastfeeding\, resolving breastfeeding issuesY and much more. Partners are welcome and encouraged to attend.  One ticket per couple
URL:https://babiesfirst.ca/event/prenatal-breastfeeding-class-february/
LOCATION:Dish Events\, 212 Earl Stewart Drive\, Aurora\, ON\, L4G 6V5\, Canada
CATEGORIES:Pregnant York Region,Prenatal Classes
ORGANIZER;CN="Babies First":MAILTO:info@babiestfirst.ca
END:VEVENT
BEGIN:VEVENT
DTSTART;TZID=UTC:20200223T120000
DTEND;TZID=UTC:20200223T140000
DTSTAMP:20260423T230019
CREATED:20200106T021008Z
LAST-MODIFIED:20200106T021215Z
UID:687-1582459200-1582466400@babiesfirst.ca
SUMMARY:Parent/Grandparent CPR First Aid Workshop
DESCRIPTION:People learning how to safe a life when the baby is choked sitting together with instructor during the first aid training indoors \nThis workshop requires registration in advance.\nThe workshop is approximately 2 hours long\, and includes up-to-date information on infant and child CPR\, choking\, and common first aid emergencies such as how to care for cuts/bleeding\, seizures\, and many others. The workshop is child-friendly and includes hands-on practice on responsive manikins.\nReserve the discounted rate by joining this great group class open to expecting parents\, parents of babies and young children and Grandparents or family members interested in learning.\n$45.00 per person\nTo register please purchase your ticket on eventbrite\, message on Facebook or email. \nDiscount available to those how have registered for a full day prenatal class with Babies First
URL:https://babiesfirst.ca/event/parent-grandparent-cpr-first-aid-workshop/
LOCATION:Dish Events\, 212 Earl Stewart Drive\, Aurora\, ON\, L4G 6V5\, Canada
CATEGORIES:Pregnant York Region,Prenatal Classes
ORGANIZER;CN="Babies First":MAILTO:info@babiestfirst.ca
END:VEVENT
BEGIN:VEVENT
DTSTART;TZID=America/Halifax:20200126T090000
DTEND;TZID=America/Halifax:20200126T170000
DTSTAMP:20260423T230019
CREATED:20191102T020824Z
LAST-MODIFIED:20191220T184120Z
UID:606-1580029200-1580058000@babiesfirst.ca
SUMMARY:Prenatal ChildBirth and Baby Care Class January 26th 2020
DESCRIPTION:Want an opportunity to learn the essentials about birth and how to care for your new baby in a fun and interactive way?\nYou will love our prenatal class. \nFee is $150 per couple and you will come away informed and with a bag of supplies to help you on the road to parenthood.\nTopics covered Include:\n|Stages of labour | Interventions and options | Comfort measures-medicated and unmedicated | C-section and vaginal birth | How to write a birth plan – and have an empowered birth | Postpartum care for Mom | Caring for your newborn\, including bathing diaper\, dressing\, soothing and car seats| Feeding your newborn basics and your changing relationship as parents \nTaught by two engaging Registered Nurses who will have you laughing and you will leave feeling prepared to welcome your baby! \n1 ticket per couple \n**this class requires registration in advance**
URL:https://babiesfirst.ca/event/prenatal-childbirth-and-baby-care-class-january-26th-2020/
LOCATION:Dish Events\, 212 Earl Stewart Drive\, Aurora\, ON\, L4G 6V5\, Canada
ORGANIZER;CN="Babies First":MAILTO:info@babiestfirst.ca
END:VEVENT
BEGIN:VEVENT
DTSTART;TZID=UTC:20191208T144500
DTEND;TZID=UTC:20191208T171500
DTSTAMP:20260423T230019
CREATED:20191117T042714Z
LAST-MODIFIED:20191117T042714Z
UID:656-1575816300-1575825300@babiesfirst.ca
SUMMARY:Prenatal Breastfeeding Class December
DESCRIPTION:Learn essential tips to help you prepare to breastfeed your baby! \nThis 2.5 hour class is taught by an experienced Registered Nurse IBCLC (International Board Certified Lactation Consultant).   It is perfect for all expectant parents who plan to breastfeed and is a must for those who have not attended any prenatal class. It is also a good in depth review for those with experience.  Even those who take a prenatal class will benefit from the in-depth details this class covers.   A lactation consultant will discuss practical information on breastfeeding-latching and positioning\, how milk supply works and establishing mil supply\, how partners/families can help\, along with information on nutrition and medication while breastfeeding and much more. Partners are welcome and encouraged to attend.  One ticket per couple
URL:https://babiesfirst.ca/event/prenatal-breastfeeding-class-december/
LOCATION:Ontario
CATEGORIES:Pregnant York Region,Prenatal Classes
END:VEVENT
BEGIN:VEVENT
DTSTART;TZID=UTC:20191208T120000
DTEND;TZID=UTC:20191208T140000
DTSTAMP:20260423T230019
CREATED:20191117T041908Z
LAST-MODIFIED:20191117T041908Z
UID:654-1575806400-1575813600@babiesfirst.ca
SUMMARY:Baby Child CPR and First Aid Workshop December 8th
DESCRIPTION:This workshop requires registration in advance.The workshop is approximately 2 hours long\, and includes up-to-date information on infant and child CPR\, choking\, and common first aid emergencies such as how to care for cuts/bleeding\, seizures\, and many others. The workshop is child-friendly and includes hands-on practice on responsive manikins. Reserve the discounted rate by joining this great group class open to expecting parents\, parents of babies and young children and Grandparents or family members interested in learning. $45.00 per personTo register please purchase your ticket on eventbrite\, message on Facebook or email.
URL:https://babiesfirst.ca/event/baby-child-cpr-and-first-aid-workshop-december-8th/
LOCATION:Dish Events\, 212 Earl Stewart Drive\, Aurora\, ON\, L4G 6V5\, Canada
CATEGORIES:Childbirth,Pregnant York Region,Prenatal Classes
ORGANIZER;CN="Babies First":MAILTO:info@babiestfirst.ca
END:VEVENT
BEGIN:VEVENT
DTSTART;TZID=America/Halifax:20191124T090000
DTEND;TZID=America/Halifax:20191124T170000
DTSTAMP:20260423T230019
CREATED:20191101T224247Z
LAST-MODIFIED:20191101T224546Z
UID:589-1574586000-1574614800@babiesfirst.ca
SUMMARY:Prenatal Childbirth and Baby Care Class November 24th 2019
DESCRIPTION:Want an opportunity to learn the essentials about birth and how to care for your new baby in a fun and interactive way?\nYou will love our prenatal class. \nFee is $150 per couple and you will come away informed and with a bag of supplies to help you on the road to parenthood.\nTopics covered Include:\nLate pregnancy: caring for your pregnancy\, warning signs | Stages of labour | Interventions and options in labour| Comfort measures in labour-Medicated and unmedicated| C-section and vaginal birth | How to write a birth plan – and have an empowered birth | Postpartum care for Mom | Caring for your newborn | Feeding your newborn basics and your changing relationship as parents \nTaught by two engaging Registered Nurses who will have you laughing and leave feeling prepared to welcome your baby! \n1 ticket per couple \n**this class requires registration in advance**
URL:https://babiesfirst.ca/event/prenatal-childbirth-and-baby-care-nov24-class/
LOCATION:Dish Events\, 212 Earl Stewart Drive\, Aurora\, ON\, L4G 6V5\, Canada
ORGANIZER;CN="Babies First":MAILTO:info@babiestfirst.ca
END:VEVENT
BEGIN:VEVENT
DTSTART;TZID=America/Halifax:20191117T133000
DTEND;TZID=America/Halifax:20191117T153000
DTSTAMP:20260423T230019
CREATED:20191101T225354Z
LAST-MODIFIED:20191101T225618Z
UID:603-1573997400-1574004600@babiesfirst.ca
SUMMARY:Baby Child CPR and First Aid Workshop Nov 17th 2019
DESCRIPTION:This workshop requires registration in advance.The workshop is approximately 2 hours long\, and includes up-to-date information on infant and child CPR\, choking\, and common first aid emergencies such as how to care for cuts/bleeding\, seizures\, and many others. The workshop is child-friendly and includes hands-on practice on responsive manikins. Reserve the discounted rate by joining this great group class open to expecting parents\, parents of babies and young children and Grandparents or family members interested in learning. $45.00 per personTo register please purchase your ticket on eventbrite\, message on Facebook or email.
URL:https://babiesfirst.ca/event/baby-child-cpr-and-first-aid-workshop-nov-17th-2019/
LOCATION:Dish Events\, 212 Earl Stewart Drive\, Aurora\, ON\, L4G 6V5\, Canada
ORGANIZER;CN="Babies First":MAILTO:info@babiestfirst.ca
END:VEVENT
END:VCALENDAR