BEGIN:VCALENDAR
VERSION:2.0
PRODID:-//Babies First - ECPv6.15.20//NONSGML v1.0//EN
CALSCALE:GREGORIAN
METHOD:PUBLISH
X-WR-CALNAME:Babies First
X-ORIGINAL-URL:https://babiesfirst.ca
X-WR-CALDESC:Events for Babies First
REFRESH-INTERVAL;VALUE=DURATION:PT1H
X-Robots-Tag:noindex
X-PUBLISHED-TTL:PT1H
BEGIN:VTIMEZONE
TZID:UTC
BEGIN:STANDARD
TZOFFSETFROM:+0000
TZOFFSETTO:+0000
TZNAME:UTC
DTSTART:20230101T000000
END:STANDARD
END:VTIMEZONE
BEGIN:VEVENT
DTSTART;TZID=UTC:20240528T183000
DTEND;TZID=UTC:20240528T203000
DTSTAMP:20260425T180541
CREATED:20240423T030951Z
LAST-MODIFIED:20240509T232530Z
UID:981-1716921000-1716928200@babiesfirst.ca
SUMMARY:Online Live Prenatal Breastfeeding Class May 2024
DESCRIPTION:Learn essential tips to help you prepare to breastfeed your baby! \nThis 2 hour class is taught by an experienced Registered Nurse IBCLC (International Board Certified Lactation Consultant).   It is perfect for all expectant parents who plan to breastfeed and is a must for those who have not attended any prenatal class. It is also a good review for those with experience.  Even those who take a prenatal class will benefit from the in-depth details this class covers.    \nA lactation consultant will discuss practical information on breastfeeding-latching and positioning\, how milk supply works and establishing milk supply\, how partners/families can help\, along with information on nutrition and medication while breastfeeding\, resolving breastfeeding issues and much more.  \nAsk your questions and get answers!   \nPartners are welcome and encouraged to attend.  One ticket per couple
URL:https://babiesfirst.ca/event/online-live-prenatal-breastfeeding-class-may-2024/
LOCATION:Online Live\, Canada
CATEGORIES:Pregnant York Region,Prenatal Breastfeeding,Prenatal Classes
ORGANIZER;CN="Babies First":MAILTO:info@babiestfirst.ca
END:VEVENT
END:VCALENDAR